BEGIN:VCALENDAR
VERSION:2.0
PRODID:-//Tukios.com/
BEGIN:VEVENT
UID:70a84ea4-faa9-4fe9-8075-053cd259d5b7@www.gatchafuneral.com
DTSTAMP:20260421T215847Z
DTSTART:20260509T140000Z
DTEND:20260509T150000Z
SUMMARY:Visitation
DESCRIPTION:
URL:https://www.gatchafuneral.com/obituaries/madeline-iswalt
LOCATION:Devlin-Gatcha Funeral Home 517 South Main Street  Phoenixville 
	PA 19460
GEO:40.1268449;-75.5135439
END:VEVENT
END:VCALENDAR