BEGIN:VCALENDAR
VERSION:2.0
PRODID:-//Tukios.com/
BEGIN:VEVENT
UID:e1a1597e-ab35-4a1b-8906-d3209cd4c5f1@www.gatchafuneral.com
DTSTAMP:20260421T220015Z
DTSTART:20260509T150000Z
DTEND:20260509T160000Z
SUMMARY:Memorial Service
DESCRIPTION:
URL:https://www.gatchafuneral.com/obituaries/madeline-iswalt
LOCATION:Devlin-Gatcha Funeral Home 517 South Main Street  Phoenixville 
	PA 19460
GEO:40.1268449;-75.5135439
END:VEVENT
END:VCALENDAR